Package: qckitfastq Version: 1.23.0 Command: /Library/Frameworks/R.framework/Resources/bin/R CMD check --install=check:qckitfastq.install-out.txt --library=/Library/Frameworks/R.framework/Resources/library --no-vignettes --timings qckitfastq_1.23.0.tar.gz StartedAt: 2025-02-09 22:52:20 -0500 (Sun, 09 Feb 2025) EndedAt: 2025-02-09 22:53:54 -0500 (Sun, 09 Feb 2025) EllapsedTime: 93.8 seconds RetCode: 0 Status: OK CheckDir: qckitfastq.Rcheck Warnings: 0