Package: qckitfastq Version: 1.23.0 Command: /home/biocbuild/bbs-3.21-bioc/R/bin/R CMD check --install=check:qckitfastq.install-out.txt --library=/home/biocbuild/bbs-3.21-bioc/R/site-library --timings qckitfastq_1.23.0.tar.gz StartedAt: 2025-02-13 01:34:09 -0500 (Thu, 13 Feb 2025) EndedAt: 2025-02-13 01:35:25 -0500 (Thu, 13 Feb 2025) EllapsedTime: 75.1 seconds RetCode: 0 Status: WARNINGS CheckDir: qckitfastq.Rcheck Warnings: 1