Package: qckitfastq Version: 1.23.0 Command: /home/biocbuild/bbs-3.21-bioc/R/bin/R CMD INSTALL qckitfastq StartedAt: 2025-02-09 15:11:41 -0500 (Sun, 09 Feb 2025) EndedAt: 2025-02-09 15:11:59 -0500 (Sun, 09 Feb 2025) EllapsedTime: 17.8 seconds RetCode: 0 Status: OK