Package: qckitfastq Version: 1.23.0 Command: chmod a+r qckitfastq -R && E:\biocbuild\bbs-3.21-bioc\R\bin\R.exe CMD build --keep-empty-dirs --no-resave-data qckitfastq StartedAt: 2025-02-09 20:55:06 -0500 (Sun, 09 Feb 2025) EndedAt: 2025-02-09 20:56:22 -0500 (Sun, 09 Feb 2025) EllapsedTime: 75.8 seconds RetCode: 1 Status: ERROR PackageFile: None PackageFileSize: NA