Package: qckitfastq Version: 1.23.0 Command: E:\biocbuild\bbs-3.21-bioc\R\bin\R.exe CMD INSTALL qckitfastq StartedAt: 2025-02-09 15:31:33 -0500 (Sun, 09 Feb 2025) EndedAt: 2025-02-09 15:32:18 -0500 (Sun, 09 Feb 2025) EllapsedTime: 44.2 seconds RetCode: 0 Status: OK