Package: qmtools Version: 1.11.0 Command: rm -rf qmtools.buildbin-libdir && mkdir qmtools.buildbin-libdir && /Users/biocbuild/BBS/utils/build-universal.sh qmtools_1.11.0.tar.gz /Library/Frameworks/R.framework/Resources/bin/R qmtools.buildbin-libdir StartedAt: 2025-02-09 22:26:09 -0500 (Sun, 09 Feb 2025) EndedAt: 2025-02-09 22:26:20 -0500 (Sun, 09 Feb 2025) EllapsedTime: 11.3 seconds RetCode: 0 Status: OK PackageFile: qmtools_1.11.0.tgz PackageFileSize: 1.535 MiB