Package: qmtools Version: 1.11.0 Command: /Library/Frameworks/R.framework/Resources/bin/R CMD build --keep-empty-dirs --no-resave-data qmtools StartedAt: 2025-02-03 17:55:05 -0500 (Mon, 03 Feb 2025) EndedAt: 2025-02-03 17:55:23 -0500 (Mon, 03 Feb 2025) EllapsedTime: 18.2 seconds RetCode: 0 Status: OK PackageFile: qmtools_1.11.0.tar.gz PackageFileSize: 1.409 MiB