Package: qmtools Version: 1.11.0 Command: /Library/Frameworks/R.framework/Resources/bin/R CMD INSTALL qmtools StartedAt: 2025-02-09 15:24:41 -0500 (Sun, 09 Feb 2025) EndedAt: 2025-02-09 15:24:50 -0500 (Sun, 09 Feb 2025) EllapsedTime: 9.5 seconds RetCode: 0 Status: OK