Package: qmtools Version: 1.11.0 Command: /home/biocbuild/R/R/bin/R CMD INSTALL qmtools StartedAt: 2025-01-29 20:27:03 -0000 (Wed, 29 Jan 2025) EndedAt: 2025-01-29 20:27:36 -0000 (Wed, 29 Jan 2025) EllapsedTime: 33.3 seconds RetCode: 0 Status: OK