Package: qmtools Version: 1.11.0 Command: /Library/Frameworks/R.framework/Resources/bin/R CMD build --keep-empty-dirs --no-resave-data qmtools StartedAt: 2025-02-09 18:02:41 -0500 (Sun, 09 Feb 2025) EndedAt: 2025-02-09 18:03:35 -0500 (Sun, 09 Feb 2025) EllapsedTime: 53.7 seconds RetCode: 0 Status: OK PackageFile: qmtools_1.11.0.tar.gz PackageFileSize: 1.413 MiB