Package: qmtools Version: 1.11.0 Command: /Library/Frameworks/R.framework/Resources/bin/R CMD INSTALL qmtools StartedAt: 2025-02-09 15:38:56 -0500 (Sun, 09 Feb 2025) EndedAt: 2025-02-09 15:39:29 -0500 (Sun, 09 Feb 2025) EllapsedTime: 33.5 seconds RetCode: 0 Status: OK