Package: qmtools Version: 1.11.0 Command: rm -rf qmtools.buildbin-libdir && mkdir qmtools.buildbin-libdir && E:\biocbuild\bbs-3.21-bioc\R\bin\R.exe CMD INSTALL --build --library=qmtools.buildbin-libdir qmtools_1.11.0.tar.gz StartedAt: 2025-02-10 08:26:53 -0500 (Mon, 10 Feb 2025) EndedAt: 2025-02-10 08:27:31 -0500 (Mon, 10 Feb 2025) EllapsedTime: 38.5 seconds RetCode: 0 Status: OK PackageFile: qmtools_1.11.0.zip PackageFileSize: 846.7 KiB