Package: qmtools Version: 1.11.0 Command: E:\biocbuild\bbs-3.21-bioc\R\bin\R.exe CMD check --no-multiarch --install=check:qmtools.install-out.txt --library=E:\biocbuild\bbs-3.21-bioc\R\library --no-vignettes --timings qmtools_1.11.0.tar.gz StartedAt: 2025-02-10 04:22:14 -0500 (Mon, 10 Feb 2025) EndedAt: 2025-02-10 04:26:20 -0500 (Mon, 10 Feb 2025) EllapsedTime: 246.8 seconds RetCode: 0 Status: OK CheckDir: qmtools.Rcheck Warnings: 0