Package: qmtools Version: 1.11.0 Command: E:\biocbuild\bbs-3.21-bioc\R\bin\R.exe CMD INSTALL qmtools StartedAt: 2025-02-09 16:10:40 -0500 (Sun, 09 Feb 2025) EndedAt: 2025-02-09 16:11:15 -0500 (Sun, 09 Feb 2025) EllapsedTime: 34.5 seconds RetCode: 0 Status: OK