Package: qpcrNorm Version: 1.65.0 Command: /Library/Frameworks/R.framework/Resources/bin/R CMD check --install=check:qpcrNorm.install-out.txt --library=/Library/Frameworks/R.framework/Resources/library --no-vignettes --timings qpcrNorm_1.65.0.tar.gz StartedAt: 2025-02-09 20:48:21 -0500 (Sun, 09 Feb 2025) EndedAt: 2025-02-09 20:48:37 -0500 (Sun, 09 Feb 2025) EllapsedTime: 16.2 seconds RetCode: 0 Status: OK CheckDir: qpcrNorm.Rcheck Warnings: 0