Package: qpcrNorm Version: 1.65.0 Command: /Library/Frameworks/R.framework/Resources/bin/R CMD INSTALL qpcrNorm StartedAt: 2025-02-09 15:02:43 -0500 (Sun, 09 Feb 2025) EndedAt: 2025-02-09 15:02:46 -0500 (Sun, 09 Feb 2025) EllapsedTime: 2.7 seconds RetCode: 0 Status: OK