Package: qpcrNorm Version: 1.65.0 Command: /home/biocbuild/R/R/bin/R CMD build --keep-empty-dirs --no-resave-data qpcrNorm StartedAt: 2025-01-29 01:26:17 -0000 (Wed, 29 Jan 2025) EndedAt: 2025-01-29 01:26:28 -0000 (Wed, 29 Jan 2025) EllapsedTime: 11.0 seconds RetCode: 0 Status: OK PackageFile: qpcrNorm_1.65.0.tar.gz PackageFileSize: 544.4 KiB