Package: qpcrNorm Version: 1.65.0 Command: /Library/Frameworks/R.framework/Resources/bin/R CMD build --keep-empty-dirs --no-resave-data qpcrNorm StartedAt: 2025-02-09 18:02:45 -0500 (Sun, 09 Feb 2025) EndedAt: 2025-02-09 18:02:58 -0500 (Sun, 09 Feb 2025) EllapsedTime: 13.6 seconds RetCode: 0 Status: OK PackageFile: qpcrNorm_1.65.0.tar.gz PackageFileSize: 549.4 KiB