Package: qpcrNorm Version: 1.65.0 Command: chmod a+r qpcrNorm -R && E:\biocbuild\bbs-3.21-bioc\R\bin\R.exe CMD build --keep-empty-dirs --no-resave-data qpcrNorm StartedAt: 2025-02-09 20:55:47 -0500 (Sun, 09 Feb 2025) EndedAt: 2025-02-09 20:56:04 -0500 (Sun, 09 Feb 2025) EllapsedTime: 17.0 seconds RetCode: 0 Status: OK PackageFile: qpcrNorm_1.65.0.tar.gz PackageFileSize: 477.5 KiB