Package: qpcrNorm Version: 1.65.0 Command: E:\biocbuild\bbs-3.21-bioc\R\bin\R.exe CMD INSTALL qpcrNorm StartedAt: 2025-02-09 15:26:57 -0500 (Sun, 09 Feb 2025) EndedAt: 2025-02-09 15:27:17 -0500 (Sun, 09 Feb 2025) EllapsedTime: 20.6 seconds RetCode: 0 Status: OK