Package: qsea Version: 1.33.0 Command: /Library/Frameworks/R.framework/Resources/bin/R CMD build --keep-empty-dirs --no-resave-data qsea StartedAt: 2025-02-09 17:19:05 -0500 (Sun, 09 Feb 2025) EndedAt: 2025-02-09 17:19:29 -0500 (Sun, 09 Feb 2025) EllapsedTime: 24.3 seconds RetCode: 0 Status: OK PackageFile: qsea_1.33.0.tar.gz PackageFileSize: 825.1 KiB