Package: qsea Version: 1.33.0 Command: /Library/Frameworks/R.framework/Resources/bin/R CMD INSTALL qsea StartedAt: 2025-02-09 15:11:27 -0500 (Sun, 09 Feb 2025) EndedAt: 2025-02-09 15:11:41 -0500 (Sun, 09 Feb 2025) EllapsedTime: 13.5 seconds RetCode: 0 Status: OK