Package: qsea Version: 1.33.0 Command: /home/biocbuild/R/R/bin/R CMD INSTALL qsea StartedAt: 2025-01-29 19:55:51 -0000 (Wed, 29 Jan 2025) EndedAt: 2025-01-29 19:56:35 -0000 (Wed, 29 Jan 2025) EllapsedTime: 44.0 seconds RetCode: 0 Status: OK