Package: qsea Version: 1.33.0 Command: rm -rf qsea.buildbin-libdir && mkdir qsea.buildbin-libdir && /Users/biocbuild/BBS/utils/build-universal.sh qsea_1.33.0.tar.gz /Library/Frameworks/R.framework/Resources/bin/R qsea.buildbin-libdir StartedAt: 2025-02-13 00:52:18 -0500 (Thu, 13 Feb 2025) EndedAt: 2025-02-13 00:53:07 -0500 (Thu, 13 Feb 2025) EllapsedTime: 48.7 seconds RetCode: 0 Status: OK PackageFile: qsea_1.33.0.tgz PackageFileSize: 1.111 MiB