Package: qsea Version: 1.33.0 Command: /Library/Frameworks/R.framework/Resources/bin/R CMD check --install=check:qsea.install-out.txt --library=/Library/Frameworks/R.framework/Resources/library --no-vignettes --timings qsea_1.33.0.tar.gz StartedAt: 2025-02-12 22:38:50 -0500 (Wed, 12 Feb 2025) EndedAt: 2025-02-12 22:43:59 -0500 (Wed, 12 Feb 2025) EllapsedTime: 308.7 seconds RetCode: 0 Status: WARNINGS CheckDir: qsea.Rcheck Warnings: 1