Package: qsea Version: 1.33.0 Command: rm -rf qsea.buildbin-libdir && mkdir qsea.buildbin-libdir && E:\biocbuild\bbs-3.21-bioc\R\bin\R.exe CMD INSTALL --build --library=qsea.buildbin-libdir qsea_1.33.0.tar.gz StartedAt: 2025-02-10 08:27:06 -0500 (Mon, 10 Feb 2025) EndedAt: 2025-02-10 08:28:03 -0500 (Mon, 10 Feb 2025) EllapsedTime: 57.5 seconds RetCode: 0 Status: OK PackageFile: qsea_1.33.0.zip PackageFileSize: 920.3 KiB