Package: qsea Version: 1.33.0 Command: chmod a+r qsea -R && E:\biocbuild\bbs-3.21-bioc\R\bin\R.exe CMD build --keep-empty-dirs --no-resave-data qsea StartedAt: 2025-02-09 20:56:21 -0500 (Sun, 09 Feb 2025) EndedAt: 2025-02-09 20:57:54 -0500 (Sun, 09 Feb 2025) EllapsedTime: 93.0 seconds RetCode: 0 Status: OK PackageFile: qsea_1.33.0.tar.gz PackageFileSize: 603.5 KiB