Package: qsea Version: 1.33.0 Command: E:\biocbuild\bbs-3.21-bioc\R\bin\R.exe CMD check --no-multiarch --install=check:qsea.install-out.txt --library=E:\biocbuild\bbs-3.21-bioc\R\library --no-vignettes --timings qsea_1.33.0.tar.gz StartedAt: 2025-02-10 04:23:22 -0500 (Mon, 10 Feb 2025) EndedAt: 2025-02-10 04:28:57 -0500 (Mon, 10 Feb 2025) EllapsedTime: 335.2 seconds RetCode: 0 Status: WARNINGS CheckDir: qsea.Rcheck Warnings: 1