Package: qsmooth Version: 1.23.0 Command: /Library/Frameworks/R.framework/Resources/bin/R CMD check --install=check:qsmooth.install-out.txt --library=/Library/Frameworks/R.framework/Resources/library --no-vignettes --timings qsmooth_1.23.0.tar.gz StartedAt: 2025-02-09 20:48:27 -0500 (Sun, 09 Feb 2025) EndedAt: 2025-02-09 20:49:54 -0500 (Sun, 09 Feb 2025) EllapsedTime: 87.0 seconds RetCode: 0 Status: WARNINGS CheckDir: qsmooth.Rcheck Warnings: 1