Package: qsmooth Version: 1.23.0 Command: /home/biocbuild/bbs-3.21-bioc/R/bin/R CMD build --keep-empty-dirs --no-resave-data qsmooth StartedAt: 2025-02-12 18:42:26 -0500 (Wed, 12 Feb 2025) EndedAt: 2025-02-12 18:43:29 -0500 (Wed, 12 Feb 2025) EllapsedTime: 63.1 seconds RetCode: 0 Status: OK PackageFile: qsmooth_1.23.0.tar.gz PackageFileSize: 1.289 MiB