Package: qsmooth Version: 1.23.0 Command: chmod a+r qsmooth -R && E:\biocbuild\bbs-3.21-bioc\R\bin\R.exe CMD build --keep-empty-dirs --no-resave-data qsmooth StartedAt: 2025-02-09 20:56:22 -0500 (Sun, 09 Feb 2025) EndedAt: 2025-02-09 20:58:01 -0500 (Sun, 09 Feb 2025) EllapsedTime: 99.2 seconds RetCode: 0 Status: OK PackageFile: qsmooth_1.23.0.tar.gz PackageFileSize: 770 KiB