Package: qsvaR Version: 1.11.1 Command: /Library/Frameworks/R.framework/Resources/bin/R CMD INSTALL qsvaR StartedAt: 2025-02-09 15:21:59 -0500 (Sun, 09 Feb 2025) EndedAt: 2025-02-09 15:22:11 -0500 (Sun, 09 Feb 2025) EllapsedTime: 12.2 seconds RetCode: 0 Status: OK