Package: qsvaR Version: 1.11.1 Command: /home/biocbuild/R/R/bin/R CMD INSTALL qsvaR StartedAt: 2025-01-29 20:21:08 -0000 (Wed, 29 Jan 2025) EndedAt: 2025-01-29 20:21:49 -0000 (Wed, 29 Jan 2025) EllapsedTime: 41.3 seconds RetCode: 0 Status: OK