Package: qsvaR Version: 1.11.1 Command: rm -rf qsvaR.buildbin-libdir && mkdir qsvaR.buildbin-libdir && /Users/biocbuild/BBS/utils/build-universal.sh qsvaR_1.11.1.tar.gz /Library/Frameworks/R.framework/Resources/bin/R qsvaR.buildbin-libdir StartedAt: 2025-02-10 01:09:53 -0500 (Mon, 10 Feb 2025) EndedAt: 2025-02-10 01:10:38 -0500 (Mon, 10 Feb 2025) EllapsedTime: 45.1 seconds RetCode: 0 Status: OK PackageFile: qsvaR_1.11.1.tgz PackageFileSize: 3.833 MiB