Package: qsvaR Version: 1.11.1 Command: /Library/Frameworks/R.framework/Resources/bin/R CMD check --install=check:qsvaR.install-out.txt --library=/Library/Frameworks/R.framework/Resources/library --no-vignettes --timings qsvaR_1.11.1.tar.gz StartedAt: 2025-02-09 22:54:00 -0500 (Sun, 09 Feb 2025) EndedAt: 2025-02-09 22:58:27 -0500 (Sun, 09 Feb 2025) EllapsedTime: 267.3 seconds RetCode: 0 Status: OK CheckDir: qsvaR.Rcheck Warnings: 0