Package: qsvaR Version: 1.11.1 Command: /home/biocbuild/bbs-3.21-bioc/R/bin/R CMD build --keep-empty-dirs --no-resave-data qsvaR StartedAt: 2025-02-09 18:46:39 -0500 (Sun, 09 Feb 2025) EndedAt: 2025-02-09 18:53:30 -0500 (Sun, 09 Feb 2025) EllapsedTime: 411.5 seconds RetCode: 0 Status: OK PackageFile: qsvaR_1.11.1.tar.gz PackageFileSize: 3.779 MiB