Package: qsvaR Version: 1.11.1 Command: /home/biocbuild/bbs-3.21-bioc/R/bin/R CMD INSTALL qsvaR StartedAt: 2025-02-12 15:28:14 -0500 (Wed, 12 Feb 2025) EndedAt: 2025-02-12 15:28:44 -0500 (Wed, 12 Feb 2025) EllapsedTime: 30.2 seconds RetCode: 0 Status: OK