Package: qsvaR Version: 1.11.1 Command: E:\biocbuild\bbs-3.21-bioc\R\bin\R.exe CMD INSTALL qsvaR StartedAt: 2025-02-09 16:15:53 -0500 (Sun, 09 Feb 2025) EndedAt: 2025-02-09 16:16:30 -0500 (Sun, 09 Feb 2025) EllapsedTime: 36.9 seconds RetCode: 0 Status: OK