Package: quantiseqr Version: 1.15.0 Command: /Library/Frameworks/R.framework/Resources/bin/R CMD build --keep-empty-dirs --no-resave-data quantiseqr StartedAt: 2025-02-09 17:19:16 -0500 (Sun, 09 Feb 2025) EndedAt: 2025-02-09 17:19:47 -0500 (Sun, 09 Feb 2025) EllapsedTime: 31.4 seconds RetCode: 0 Status: OK PackageFile: quantiseqr_1.15.0.tar.gz PackageFileSize: 3.655 MiB