Package: quantiseqr Version: 1.15.0 Command: /Library/Frameworks/R.framework/Resources/bin/R CMD check --install=check:quantiseqr.install-out.txt --library=/Library/Frameworks/R.framework/Resources/library --no-vignettes --timings quantiseqr_1.15.0.tar.gz StartedAt: 2025-02-09 20:49:39 -0500 (Sun, 09 Feb 2025) EndedAt: 2025-02-09 20:51:08 -0500 (Sun, 09 Feb 2025) EllapsedTime: 89.1 seconds RetCode: 0 Status: OK CheckDir: quantiseqr.Rcheck Warnings: 0