Package: quantiseqr Version: 1.15.0 Command: /Library/Frameworks/R.framework/Resources/bin/R CMD INSTALL quantiseqr StartedAt: 2025-02-09 15:10:42 -0500 (Sun, 09 Feb 2025) EndedAt: 2025-02-09 15:11:19 -0500 (Sun, 09 Feb 2025) EllapsedTime: 36.3 seconds RetCode: 0 Status: OK