Package: quantiseqr Version: 1.15.0 Command: /home/biocbuild/bbs-3.21-bioc/R/bin/R CMD INSTALL quantiseqr StartedAt: 2025-02-12 15:30:25 -0500 (Wed, 12 Feb 2025) EndedAt: 2025-02-12 15:30:49 -0500 (Wed, 12 Feb 2025) EllapsedTime: 24.0 seconds RetCode: 0 Status: OK