Package: quantiseqr Version: 1.15.0 Command: rm -rf quantiseqr.buildbin-libdir && mkdir quantiseqr.buildbin-libdir && E:\biocbuild\bbs-3.21-bioc\R\bin\R.exe CMD INSTALL --build --library=quantiseqr.buildbin-libdir quantiseqr_1.15.0.tar.gz StartedAt: 2025-02-10 08:27:27 -0500 (Mon, 10 Feb 2025) EndedAt: 2025-02-10 08:27:59 -0500 (Mon, 10 Feb 2025) EllapsedTime: 31.5 seconds RetCode: 0 Status: OK PackageFile: quantiseqr_1.15.0.zip PackageFileSize: 2.518 MiB