Package: quantiseqr Version: 1.15.0 Command: E:\biocbuild\bbs-3.21-bioc\R\bin\R.exe CMD check --no-multiarch --install=check:quantiseqr.install-out.txt --library=E:\biocbuild\bbs-3.21-bioc\R\library --no-vignettes --timings quantiseqr_1.15.0.tar.gz StartedAt: 2025-02-13 04:32:54 -0500 (Thu, 13 Feb 2025) EndedAt: 2025-02-13 04:37:14 -0500 (Thu, 13 Feb 2025) EllapsedTime: 260.6 seconds RetCode: 0 Status: OK CheckDir: quantiseqr.Rcheck Warnings: 0