Package: quantro Version: 1.41.0 Maintainer: Stephanie Hicks MaintainerEmail: shicks19 at jhu.edu git_url: https://git.bioconductor.org/packages/quantro git_branch: devel git_last_commit: 7ff2ff0 git_last_commit_date: 2024-10-29 09:54:00 -0500 (Tue, 29 Oct 2024)