Package: quantro Version: 1.41.0 Command: /Library/Frameworks/R.framework/Resources/bin/R CMD build --keep-empty-dirs --no-resave-data quantro StartedAt: 2025-02-09 17:19:17 -0500 (Sun, 09 Feb 2025) EndedAt: 2025-02-09 17:20:01 -0500 (Sun, 09 Feb 2025) EllapsedTime: 44.5 seconds RetCode: 0 Status: OK PackageFile: quantro_1.41.0.tar.gz PackageFileSize: 2.779 MiB