Package: quantro Version: 1.41.0 Command: /Library/Frameworks/R.framework/Resources/bin/R CMD build --keep-empty-dirs --no-resave-data quantro StartedAt: 2025-02-12 17:56:40 -0500 (Wed, 12 Feb 2025) EndedAt: 2025-02-12 17:58:38 -0500 (Wed, 12 Feb 2025) EllapsedTime: 118.7 seconds RetCode: 0 Status: OK PackageFile: quantro_1.41.0.tar.gz PackageFileSize: 2.779 MiB