Package: qusage Version: 2.41.0 Command: /Library/Frameworks/R.framework/Resources/bin/R CMD build --keep-empty-dirs --no-resave-data qusage StartedAt: 2025-02-05 17:20:46 -0500 (Wed, 05 Feb 2025) EndedAt: 2025-02-05 17:23:24 -0500 (Wed, 05 Feb 2025) EllapsedTime: 157.7 seconds RetCode: 0 Status: OK PackageFile: qusage_2.41.0.tar.gz PackageFileSize: 9.67 MiB