Package: qusage Version: 2.41.0 Command: /Library/Frameworks/R.framework/Resources/bin/R CMD check --install=check:qusage.install-out.txt --library=/Library/Frameworks/R.framework/Resources/library --no-vignettes --timings qusage_2.41.0.tar.gz StartedAt: 2025-02-03 21:26:37 -0500 (Mon, 03 Feb 2025) EndedAt: 2025-02-03 21:27:11 -0500 (Mon, 03 Feb 2025) EllapsedTime: 34.5 seconds RetCode: 0 Status: OK CheckDir: qusage.Rcheck Warnings: 0