Package: qusage Version: 2.41.0 Command: /Library/Frameworks/R.framework/Resources/bin/R CMD INSTALL qusage StartedAt: 2025-02-03 15:38:44 -0500 (Mon, 03 Feb 2025) EndedAt: 2025-02-03 15:38:48 -0500 (Mon, 03 Feb 2025) EllapsedTime: 3.6 seconds RetCode: 0 Status: OK